BEGIN:VCALENDAR
VERSION:2.0
METHOD:PUBLISH
CALSCALE:GREGORIAN
PRODID:-//WordPress - MECv7.32.0//EN
X-ORIGINAL-URL:https://epsoc.org.uk/
X-WR-CALNAME:Edinburgh Photographic Society
X-WR-CALDESC:EPS website membership, Events Exhibitions and Competitions
X-WR-TIMEZONE:Europe/London
BEGIN:VTIMEZONE
TZID:Europe/London
X-LIC-LOCATION:Europe/London
BEGIN:DAYLIGHT
TZOFFSETFROM:+0000
TZOFFSETTO:+0100
TZNAME:BST
DTSTART:20260329T020000
RRULE:FREQ=YEARLY;BYMONTH=03;BYDAY=-1SU
END:DAYLIGHT
BEGIN:STANDARD
TZOFFSETFROM:+0100
TZOFFSETTO:+0000
TZNAME:GMT
DTSTART:20261025T010000
RRULE:FREQ=YEARLY;BYMONTH=10;BYDAY=4SU
END:STANDARD
END:VTIMEZONE
REFRESH-INTERVAL;VALUE=DURATION:PT1H
X-PUBLISHED-TTL:PT1H
X-MS-OLK-FORCEINSPECTOROPEN:TRUE
BEGIN:VEVENT
CLASS:PUBLIC
UID:MEC-09d7de7eb33cc3b65f4e19b43f8bc81e@epsoc.org.uk
DTSTART;TZID=Europe/London:20260425T100000
DTEND;TZID=Europe/London:20260425T163000
DTSTAMP:20260217T162521Z
CREATED:20260217
LAST-MODIFIED:20260326
PRIORITY:5
SEQUENCE:3
TRANSP:OPAQUE
SUMMARY:Holyrood Art Club – Annual Exhibition
DESCRIPTION:We’re pleased to host the Holyrood Art Club’s Annual Exhibition from 18 to 25 April. This long-established Edinburgh art society brings together a wide range of work from its members, including painting, drawing and mixed media.\nThe exhibition offers a relaxed and welcoming setting where visitors can explore original artwork, meet artists, and purchase directly from the club. Entry is free, making it an accessible opportunity to support local creativity and discover new work in the heart of the city.\nWhether you are a regular gallery visitor or simply curious, this is a chance to see the breadth of talent within Edinburgh’s artistic community and take home something truly individual.\n
URL:https://epsoc.org.uk/events/holyrood-art-club-annual-exhibition-6/
CATEGORIES:Holyrood Art Club Exhibition
LOCATION:68 Great King Street
ATTACH;FMTTYPE=image/png:https://epsoc.org.uk/wp-content/uploads/2026/03/HAC-Exhibition.png
END:VEVENT
BEGIN:VEVENT
CLASS:PUBLIC
UID:MEC-100d5d9191f185eeb98d6e291756954a@epsoc.org.uk
DTSTART;TZID=Europe/London:20260429T193000
DTEND;TZID=Europe/London:20260429T193000
DTSTAMP:20251218T190425Z
CREATED:20251218
LAST-MODIFIED:20260419
PRIORITY:5
SEQUENCE:3
TRANSP:OPAQUE
SUMMARY:Main Society – Talk
DESCRIPTION:David Eustace\nScots born David Eustace worked on minesweepers and in Barlinnie Prison as a prison officer before discovering photography. He began his photographic career as a mature student at Edinburgh Napier University and within weeks of graduating, found himself working for GQ, Tatler, Vogue, The Sunday Times and Sunday Telegraph magazines amongst many others. Between 2001 and 2016 he was based in New York and undertook commissions for multiple global brands. Now back in his native Scotland his work has seen him document the landscapes of the USA, South America, the Middle East, Asia and his homeland of Scotland, as well as making some incredible portraits. David’s talk will cover a wide range of his photographic images from across several genres.\nINTRO — David Eustace ( https://www.davideustace.com/intro )\n
URL:https://epsoc.org.uk/events/main-society-lecture/
ORGANIZER;CN=Pete Gaskin:MAILTO:syllabus@epsoc.org.uk
CATEGORIES:Main Society - Talk
LOCATION:68 Great King Street
ATTACH;FMTTYPE=image/png:https://epsoc.org.uk/wp-content/uploads/2026/04/David-Eustace.png
END:VEVENT
BEGIN:VEVENT
CLASS:PUBLIC
UID:MEC-eff7451f28530f1defbd5e78bb67a742@epsoc.org.uk
DTSTART;TZID=Europe/London:20260509T140000
DTEND;TZID=Europe/London:20260509T180000
DTSTAMP:20251218T190408Z
CREATED:20251218
LAST-MODIFIED:20251218
PRIORITY:5
SEQUENCE:0
TRANSP:OPAQUE
SUMMARY:Members’ Exhibition
DESCRIPTION:Doors Open 2pm and presentation of awards is 4pm. Members and guests.\n
URL:https://epsoc.org.uk/events/members-exhibition-4/
ORGANIZER;CN=Mike Winter:MAILTO:
CATEGORIES:Members' Exhibition
LOCATION:68 Great King Street
END:VEVENT
BEGIN:VEVENT
CLASS:PUBLIC
UID:MEC-cc9109aa1f048c36d154d902612982e2@epsoc.org.uk
DTSTART;TZID=Europe/London:20260510T103000
DTEND;TZID=Europe/London:20260510T153000
DTSTAMP:20251218T190408Z
CREATED:20251218
LAST-MODIFIED:20251218
PRIORITY:5
SEQUENCE:0
TRANSP:OPAQUE
SUMMARY:Members’ Exhibition
DESCRIPTION:Open to public\n
URL:https://epsoc.org.uk/events/members-exhibition-3/
ORGANIZER;CN=Mike Winter:MAILTO:
CATEGORIES:Members' Exhibition
LOCATION:68 Great King Street
END:VEVENT
BEGIN:VEVENT
CLASS:PUBLIC
UID:MEC-41d80bfc327ef980528426fc810a6d7a@epsoc.org.uk
DTSTART;TZID=Europe/London:20260516T123000
DTEND;TZID=Europe/London:20260516T123000
DTSTAMP:20251218T190407Z
CREATED:20251218
LAST-MODIFIED:20251219
PRIORITY:5
SEQUENCE:1
TRANSP:OPAQUE
SUMMARY:Bank Note Society of Scotland (BNSS)
DESCRIPTION:Private Event\n
URL:https://epsoc.org.uk/events/bank-note-society-of-scotland-bnss-3/
CATEGORIES:Bank Note Society of Scotland (BNSS)
LOCATION:68 Great King Street
END:VEVENT
BEGIN:VEVENT
CLASS:PUBLIC
UID:MEC-beff5a409891f9bf1bfa1e555fe213e2@epsoc.org.uk
DTSTART;TZID=Europe/London:20260516T103000
DTEND;TZID=Europe/London:20260516T123000
DTSTAMP:20251218T190407Z
CREATED:20251218
LAST-MODIFIED:20251218
PRIORITY:5
SEQUENCE:0
TRANSP:OPAQUE
SUMMARY:Members’ Exhibition
DESCRIPTION:Open to public\n
URL:https://epsoc.org.uk/events/members-exhibition-2/
ORGANIZER;CN=Mike Winter:MAILTO:
CATEGORIES:Members' Exhibition
LOCATION:68 Great King Street
END:VEVENT
BEGIN:VEVENT
CLASS:PUBLIC
UID:MEC-70d85f35a1fdc0ab701ff78779306407@epsoc.org.uk
DTSTART;TZID=Europe/London:20260517T103000
DTEND;TZID=Europe/London:20260517T153000
DTSTAMP:20251218T190407Z
CREATED:20251218
LAST-MODIFIED:20251218
PRIORITY:5
SEQUENCE:0
TRANSP:OPAQUE
SUMMARY:Members’ Exhibition
DESCRIPTION:Open to public\n
URL:https://epsoc.org.uk/events/members-exhibition/
ORGANIZER;CN=Mike Winter:MAILTO:
CATEGORIES:Members' Exhibition
LOCATION:68 Great King Street
END:VEVENT
BEGIN:VEVENT
CLASS:PUBLIC
UID:MEC-eed43ed95207149ced1c0f1f8a2c0f67@epsoc.org.uk
DTSTART;TZID=Europe/London:20260530T000000
DTEND;TZID=Europe/London:20260531T000000
DTSTAMP:20260311T132300Z
CREATED:20260311
LAST-MODIFIED:20260424
PRIORITY:5
SEQUENCE:1
TRANSP:OPAQUE
SUMMARY:Private Event – FIAP – Gracie Alison Hall
DESCRIPTION:Private FIAP Event – Gracie Alison Hall\n
URL:https://epsoc.org.uk/events/private-event-gracie-alison-hall/
END:VEVENT
BEGIN:VEVENT
CLASS:PUBLIC
UID:MEC-fc8ce6292e51ac8214f544324c56d10d@epsoc.org.uk
DTSTART;TZID=Europe/London:20260531T093000
DTEND;TZID=Europe/London:20260531T120000
DTSTAMP:20260317T174656Z
CREATED:20260317
LAST-MODIFIED:20260424
PRIORITY:5
SEQUENCE:2
TRANSP:OPAQUE
SUMMARY:FIAP Event – Gracie Alison Hall
DESCRIPTION:The FIAP Board are visiting Edinburgh and during their visit they have set aside time to give a presentation to Scottish Photographers on Sunday 31st May at Edinburgh Photographic Society’s Clubrooms from 9.30am until 12noon.\nThis event is FREE to attend but must be pre-booked as space is limited. Please email Libby Smith using the details found in the email sent by Muriel to Members on the 22nd April 2026, to book a space, by 24th May, stating your Name and Club, she will confirm by return if space is available for you to attend as well as confirming full venue details.\nTopics being presented by FIAP will include –\n1. The main updates to FIAP Distinctions introduced in 2026\n2. FIAP Photo Days, an opportunity for organisers and photographers within the FIAP community\n3. FIAP Exhibition Centres\nThese presentations will include the participation of FIAP President Riccardo Busi, FIAP Secretary General Ioannis Lykouris, Treasurer Herbert Gmeiner, Vice President and Director of FIAP Exhibition Centres Joan Burgues Martisella, Director of the Patronage Service Romain Nero, and Director of the FIAP Photo Academy Online Events, Paul Stanley.\nKind regards\nMuriel\n
URL:https://epsoc.org.uk/events/private-event-gracie-alison-hall-2/
CATEGORIES:Booking Required
LOCATION:68 Great King Street
END:VEVENT
BEGIN:VEVENT
CLASS:PUBLIC
UID:MEC-f3935d39e4ea04753b0061e1be62e192@epsoc.org.uk
DTSTART;TZID=Europe/London:20260607T150000
DTEND;TZID=Europe/London:20260607T183000
DTSTAMP:20251218T190407Z
CREATED:20251218
LAST-MODIFIED:20251218
PRIORITY:5
SEQUENCE:0
TRANSP:OPAQUE
SUMMARY:Annual BBQ in the Garden at EPS
DESCRIPTION:All members are invited to attend with their spouse/partner. Food and soft drinks will be supplied by the EPS but those attending will be asked to contribute £5 per head towards the cost of this. May be inside if weather is wet.\n \n
URL:https://epsoc.org.uk/events/annual-bbq-in-the-garden-at-eps/
ORGANIZER;CN=President:MAILTO:president@epsoc.org.uk
CATEGORIES:Annual BBQ in the Garden at EPS
LOCATION:68 Great King Street
END:VEVENT
BEGIN:VEVENT
CLASS:PUBLIC
UID:MEC-7f9bcc33944cd0718a62665e934f7653@epsoc.org.uk
DTSTART;TZID=Europe/London:20260623T193000
DTEND;TZID=Europe/London:20260623T193000
DTSTAMP:20251218T190407Z
CREATED:20251218
LAST-MODIFIED:20251219
PRIORITY:5
SEQUENCE:1
TRANSP:OPAQUE
SUMMARY:Council Meeting
DESCRIPTION:Please alert any topics you wish brought to the attention of Council by email to secretary@epsoc.org.uk\n
URL:https://epsoc.org.uk/events/council-meeting/
ORGANIZER;CN=Secretary:MAILTO:secretary@epsoc.org.uk
CATEGORIES:Council Meeting
LOCATION:68 Great Kings Street
END:VEVENT
BEGIN:VEVENT
CLASS:PUBLIC
UID:MEC-d1d6a7eae40b025e869ac0853049efc2@epsoc.org.uk
DTSTART;TZID=Europe/London:20260807T100000
DTEND;TZID=Europe/London:20260830T100000
DTSTAMP:20251218T190444Z
CREATED:20251218
LAST-MODIFIED:20251219
PRIORITY:5
SEQUENCE:1
TRANSP:OPAQUE
SUMMARY:Edinburgh International Exhibition of Photography
DESCRIPTION:Details to be confirmed\n
URL:https://epsoc.org.uk/events/edinburgh-international-exhibition-of-photography/
ORGANIZER;CN=Isobel Lindsay:MAILTO:cd@epsoc.org.uk
CATEGORIES:Edinburgh International Exhibition of Photography
LOCATION:68 Great King Street
END:VEVENT
BEGIN:VEVENT
CLASS:PUBLIC
UID:MEC-31d754e8615621112f3956fae2707df8@epsoc.org.uk
DTSTART;TZID=Europe/London:20260919T100000
DTEND;TZID=Europe/London:20260919T100000
DTSTAMP:20251218T190405Z
CREATED:20251218
LAST-MODIFIED:20251219
PRIORITY:5
SEQUENCE:1
TRANSP:OPAQUE
SUMMARY:Bank Note Society of Scotland (BNSS)
DESCRIPTION:Private Event\n
URL:https://epsoc.org.uk/events/bank-note-society-of-scotland-bnss-2/
CATEGORIES:Bank Note Society of Scotland (BNSS)
LOCATION:68 Great King Street
END:VEVENT
BEGIN:VEVENT
CLASS:PUBLIC
UID:MEC-0465a1824942fac19824528343613213@epsoc.org.uk
DTSTART;TZID=Europe/London:20261128T100000
DTEND;TZID=Europe/London:20261128T100000
DTSTAMP:20251218T190405Z
CREATED:20251218
LAST-MODIFIED:20251219
PRIORITY:5
SEQUENCE:1
TRANSP:OPAQUE
SUMMARY:Bank Note Society of Scotland (BNSS)
DESCRIPTION:Private Event\n
URL:https://epsoc.org.uk/events/bank-note-society-of-scotland-bnss/
CATEGORIES:Bank Note Society of Scotland (BNSS)
LOCATION:68 Great King Street
END:VEVENT
END:VCALENDAR
